BEGIN:VCALENDAR
VERSION:2.0
PRODID:icalendar-ruby
CALSCALE:GREGORIAN
METHOD:PUBLISH
BEGIN:VEVENT
DTSTAMP:20260420T153149Z
UID:89-1110695@calvarymonument.org
DTSTART:20260523T000000Z
DTEND:20260523T110000Z
CLASS:PUBLIC
CREATED:20260413T131832
DESCRIPTION:Youth and their friends are invited to a night full of games\, 
 fellowship\, food\, and more!!! What better way to end the school year tha
 n to stay up all night with your friends and worship Jesus! This will be a
  night to remember\, hope to see you there!!!\nCost: $20\nA completed medi
 cal form is required to attend this event.
LAST-MODIFIED:20260413T131832
LOCATION:CMBC\, 1660 Mine Rd.\, Paradise\, PA 17562
SUMMARY:CMBC Youth All Nighter
URL;VALUE=URI:https://calvarymonument.org/events/cmbc-youth-all-nighter/202
 6-05-22
ATTACH;FILENAME=2026-All-Nighter-slide.jpg;FMTTYPE=image/jpeg:https://dq5pw
 pg1q8ru0.cloudfront.net/2026/04/08/14/50/57/6199977d-a1c7-4fa2-96b6-48c9ac
 800108/2026-All-Nighter-slide.jpg
END:VEVENT
END:VCALENDAR
