BEGIN:VCALENDAR
VERSION:2.0
PRODID:icalendar-ruby
CALSCALE:GREGORIAN
METHOD:PUBLISH
BEGIN:VEVENT
DTSTAMP:20260420T153826Z
UID:93-1113447@calvarymonument.org
DTSTART:20260517T141500Z
DTEND:20260517T143000Z
CLASS:PUBLIC
CREATED:20260416T095725
DESCRIPTION:If you’ve recently started attending CMBC\, we would like to 
 meet you! Meet us at the front of the Auditorium after the service for an 
 opportunity to talk one-on-one with CMBC leaders in a relaxed setting and 
 ask any questions you have regarding life at CMBC. Sign up on the communic
 ation form.
LAST-MODIFIED:20260416T095725
LOCATION:CMBC\, 1660 Mine Rd.\, Paradise\, PA 17562
SUMMARY:Meet & Greet with Elders & Pastors
URL;VALUE=URI:https://calvarymonument.org/events/meet-greet-with-elders-pas
 tors--93/2026-05-17
ATTACH;FILENAME=2026-05-Meet-and-Greet.jpg;FMTTYPE=image/jpeg:https://dq5pw
 pg1q8ru0.cloudfront.net/2026/04/16/13/57/25/0c9976ec-55ad-4eea-a23e-28d581
 6e1f4d/2026-05-Meet-and-Greet.jpg
END:VEVENT
END:VCALENDAR
