BEGIN:VCALENDAR
VERSION:2.0
PRODID:icalendar-ruby
CALSCALE:GREGORIAN
METHOD:PUBLISH
BEGIN:VEVENT
DTSTAMP:20260420T153101Z
UID:92-1106980@calvarymonument.org
DTSTART:20260507T120000Z
DTEND:20260507T183000Z
CLASS:PUBLIC
CREATED:20260409T145508
DESCRIPTION:National Day of Prayer is an all-day prayer and worship event f
 or middle-school and high-school students. Encounter Church will be hostin
 g the event this year and is supported by other youth ministries (includin
 g CMBC). The event can be counted as an exused absence as long as students
  turn in their permission form PRIOR to the event. Free food and games wil
 l be provided. Rides to and from this event are not provided. We hope to s
 ee you there!!!
LAST-MODIFIED:20260409T145508
LOCATION:Encounter Church\, 300 Hideaway Dr.\, Quarryville\, PA 17566
SUMMARY:National Day of Prayer - Youth
URL;VALUE=URI:https://calvarymonument.org/events/national-day-of-prayer-you
 th/2026-05-07
ATTACH;FILENAME=2026-youth-NDP.jpg;FMTTYPE=image/jpeg:https://dq5pwpg1q8ru0
 .cloudfront.net/2026/04/09/18/55/07/5eb67837-217a-4c92-9f04-d42ae77d040e/2
 026-youth-NDP.jpg
END:VEVENT
END:VCALENDAR
