BEGIN:VCALENDAR
VERSION:2.0
PRODID:icalendar-ruby
CALSCALE:GREGORIAN
METHOD:PUBLISH
BEGIN:VEVENT
DTSTAMP:20260423T163629Z
UID:78-1120458@calvarymonument.org
DTSTART:20261004T130000Z
DTEND:20261004T141500Z
CLASS:PUBLIC
CREATED:20260423T111543
DESCRIPTION:
LAST-MODIFIED:20260423T111543
LOCATION:CMBC\, 1660 Mine Rd.\, Paradise\, PA 17562
SUMMARY:Sunday Morning Service
URL;VALUE=URI:https://calvarymonument.org/events/sunday-morning-service--78
 /2026-10-04
END:VEVENT
END:VCALENDAR
