BEGIN:VCALENDAR
VERSION:2.0
PRODID:icalendar-ruby
CALSCALE:GREGORIAN
METHOD:PUBLISH
BEGIN:VEVENT
DTSTAMP:20260423T212536Z
UID:78-1120797@calvarymonument.org
DTSTART:20261025T130000Z
DTEND:20261025T141500Z
CLASS:PUBLIC
CREATED:20260423T170716
DESCRIPTION:
LAST-MODIFIED:20260423T170716
LOCATION:CMBC\, 1660 Mine Rd.\, Paradise\, PA 17562
SUMMARY:Sunday Morning Service
URL;VALUE=URI:https://calvarymonument.org/events/sunday-morning-service--78
 /2026-10-25
END:VEVENT
END:VCALENDAR
