BEGIN:VCALENDAR
VERSION:2.0
PRODID:icalendar-ruby
CALSCALE:GREGORIAN
METHOD:PUBLISH
BEGIN:VEVENT
DTSTAMP:20260423T224251Z
UID:78-1120798@calvarymonument.org
DTSTART:20261101T140000Z
DTEND:20261101T151500Z
CLASS:PUBLIC
CREATED:20260423T170716
DESCRIPTION:
LAST-MODIFIED:20260423T170716
LOCATION:CMBC\, 1660 Mine Rd.\, Paradise\, PA 17562
SUMMARY:Sunday Morning Service
URL;VALUE=URI:https://calvarymonument.org/events/sunday-morning-service--78
 /2026-11-01
END:VEVENT
END:VCALENDAR
